BEGIN:VCALENDAR
VERSION:2.0
PRODID:-//Canaan Trail Baptist Church - ECPv6.15.17.1//NONSGML v1.0//EN
CALSCALE:GREGORIAN
METHOD:PUBLISH
X-WR-CALNAME:Canaan Trail Baptist Church
X-ORIGINAL-URL:https://www.ctbc.church
X-WR-CALDESC:Events for Canaan Trail Baptist Church
REFRESH-INTERVAL;VALUE=DURATION:PT1H
X-Robots-Tag:noindex
X-PUBLISHED-TTL:PT1H
BEGIN:VTIMEZONE
TZID:America/Denver
BEGIN:DAYLIGHT
TZOFFSETFROM:-0700
TZOFFSETTO:-0600
TZNAME:MDT
DTSTART:20250309T090000
END:DAYLIGHT
BEGIN:STANDARD
TZOFFSETFROM:-0600
TZOFFSETTO:-0700
TZNAME:MST
DTSTART:20251102T080000
END:STANDARD
BEGIN:DAYLIGHT
TZOFFSETFROM:-0700
TZOFFSETTO:-0600
TZNAME:MDT
DTSTART:20260308T090000
END:DAYLIGHT
BEGIN:STANDARD
TZOFFSETFROM:-0600
TZOFFSETTO:-0700
TZNAME:MST
DTSTART:20261101T080000
END:STANDARD
BEGIN:DAYLIGHT
TZOFFSETFROM:-0700
TZOFFSETTO:-0600
TZNAME:MDT
DTSTART:20270314T090000
END:DAYLIGHT
BEGIN:STANDARD
TZOFFSETFROM:-0600
TZOFFSETTO:-0700
TZNAME:MST
DTSTART:20271107T080000
END:STANDARD
END:VTIMEZONE
BEGIN:VEVENT
DTSTART;TZID=America/Denver:20260802T103000
DTEND;TZID=America/Denver:20260802T103000
DTSTAMP:20260421T174013
CREATED:20250207T180749Z
LAST-MODIFIED:20250228T025027Z
UID:10000082-1785666600-1785666600@www.ctbc.church
SUMMARY:Sunday Worship Service
DESCRIPTION:
URL:https://www.ctbc.church/event/sunday-worship-service/2026-08-02
END:VEVENT
BEGIN:VEVENT
DTSTART;TZID=America/Denver:20260809T103000
DTEND;TZID=America/Denver:20260809T103000
DTSTAMP:20260421T174013
CREATED:20250207T180749Z
LAST-MODIFIED:20250228T025027Z
UID:10000083-1786271400-1786271400@www.ctbc.church
SUMMARY:Sunday Worship Service
DESCRIPTION:
URL:https://www.ctbc.church/event/sunday-worship-service/2026-08-09
END:VEVENT
BEGIN:VEVENT
DTSTART;TZID=America/Denver:20260816T103000
DTEND;TZID=America/Denver:20260816T103000
DTSTAMP:20260421T174013
CREATED:20250207T180749Z
LAST-MODIFIED:20250228T025027Z
UID:10000084-1786876200-1786876200@www.ctbc.church
SUMMARY:Sunday Worship Service
DESCRIPTION:
URL:https://www.ctbc.church/event/sunday-worship-service/2026-08-16
END:VEVENT
BEGIN:VEVENT
DTSTART;TZID=America/Denver:20260823T103000
DTEND;TZID=America/Denver:20260823T103000
DTSTAMP:20260421T174013
CREATED:20250207T180749Z
LAST-MODIFIED:20250228T025027Z
UID:10000085-1787481000-1787481000@www.ctbc.church
SUMMARY:Sunday Worship Service
DESCRIPTION:
URL:https://www.ctbc.church/event/sunday-worship-service/2026-08-23
END:VEVENT
BEGIN:VEVENT
DTSTART;TZID=America/Denver:20260830T103000
DTEND;TZID=America/Denver:20260830T103000
DTSTAMP:20260421T174013
CREATED:20250207T180749Z
LAST-MODIFIED:20250228T025027Z
UID:10000086-1788085800-1788085800@www.ctbc.church
SUMMARY:Sunday Worship Service
DESCRIPTION:
URL:https://www.ctbc.church/event/sunday-worship-service/2026-08-30
END:VEVENT
END:VCALENDAR