BEGIN:VCALENDAR
VERSION:2.0
PRODID:-//Canaan Trail Baptist Church - ECPv6.15.17.1//NONSGML v1.0//EN
CALSCALE:GREGORIAN
METHOD:PUBLISH
X-ORIGINAL-URL:https://www.ctbc.church
X-WR-CALDESC:Events for Canaan Trail Baptist Church
REFRESH-INTERVAL;VALUE=DURATION:PT1H
X-Robots-Tag:noindex
X-PUBLISHED-TTL:PT1H
BEGIN:VTIMEZONE
TZID:America/Denver
BEGIN:DAYLIGHT
TZOFFSETFROM:-0700
TZOFFSETTO:-0600
TZNAME:MDT
DTSTART:20250309T090000
END:DAYLIGHT
BEGIN:STANDARD
TZOFFSETFROM:-0600
TZOFFSETTO:-0700
TZNAME:MST
DTSTART:20251102T080000
END:STANDARD
BEGIN:DAYLIGHT
TZOFFSETFROM:-0700
TZOFFSETTO:-0600
TZNAME:MDT
DTSTART:20260308T090000
END:DAYLIGHT
BEGIN:STANDARD
TZOFFSETFROM:-0600
TZOFFSETTO:-0700
TZNAME:MST
DTSTART:20261101T080000
END:STANDARD
BEGIN:DAYLIGHT
TZOFFSETFROM:-0700
TZOFFSETTO:-0600
TZNAME:MDT
DTSTART:20270314T090000
END:DAYLIGHT
BEGIN:STANDARD
TZOFFSETFROM:-0600
TZOFFSETTO:-0700
TZNAME:MST
DTSTART:20271107T080000
END:STANDARD
END:VTIMEZONE
BEGIN:VEVENT
DTSTART;TZID=America/Denver:20260503T094500
DTEND;TZID=America/Denver:20260503T094500
DTSTAMP:20260421T123801
CREATED:20260119T194247Z
LAST-MODIFIED:20260119T194248Z
UID:10000688-1777801500-1777801500@www.ctbc.church
SUMMARY:Prayer Time
DESCRIPTION:
URL:https://www.ctbc.church/event/bible-study-by-randy-reeves-2/2026-05-03
END:VEVENT
BEGIN:VEVENT
DTSTART;TZID=America/Denver:20260503T103000
DTEND;TZID=America/Denver:20260503T103000
DTSTAMP:20260421T123801
CREATED:20250207T180749Z
LAST-MODIFIED:20250228T025027Z
UID:10000069-1777804200-1777804200@www.ctbc.church
SUMMARY:Sunday Worship Service
DESCRIPTION:
URL:https://www.ctbc.church/event/sunday-worship-service/2026-05-03
END:VEVENT
BEGIN:VEVENT
DTSTART;TZID=America/Denver:20260510T094500
DTEND;TZID=America/Denver:20260510T094500
DTSTAMP:20260421T123801
CREATED:20260119T194247Z
LAST-MODIFIED:20260119T194248Z
UID:10000689-1778406300-1778406300@www.ctbc.church
SUMMARY:Prayer Time
DESCRIPTION:
URL:https://www.ctbc.church/event/bible-study-by-randy-reeves-2/2026-05-10
END:VEVENT
BEGIN:VEVENT
DTSTART;TZID=America/Denver:20260510T103000
DTEND;TZID=America/Denver:20260510T103000
DTSTAMP:20260421T123801
CREATED:20250207T180749Z
LAST-MODIFIED:20250228T025027Z
UID:10000070-1778409000-1778409000@www.ctbc.church
SUMMARY:Sunday Worship Service
DESCRIPTION:
URL:https://www.ctbc.church/event/sunday-worship-service/2026-05-10
END:VEVENT
BEGIN:VEVENT
DTSTART;TZID=America/Denver:20260517T094500
DTEND;TZID=America/Denver:20260517T094500
DTSTAMP:20260421T123801
CREATED:20260119T194247Z
LAST-MODIFIED:20260119T194248Z
UID:10000690-1779011100-1779011100@www.ctbc.church
SUMMARY:Prayer Time
DESCRIPTION:
URL:https://www.ctbc.church/event/bible-study-by-randy-reeves-2/2026-05-17
END:VEVENT
BEGIN:VEVENT
DTSTART;TZID=America/Denver:20260517T103000
DTEND;TZID=America/Denver:20260517T103000
DTSTAMP:20260421T123801
CREATED:20250207T180749Z
LAST-MODIFIED:20250228T025027Z
UID:10000071-1779013800-1779013800@www.ctbc.church
SUMMARY:Sunday Worship Service
DESCRIPTION:
URL:https://www.ctbc.church/event/sunday-worship-service/2026-05-17
END:VEVENT
BEGIN:VEVENT
DTSTART;TZID=America/Denver:20260524T094500
DTEND;TZID=America/Denver:20260524T094500
DTSTAMP:20260421T123801
CREATED:20260119T194247Z
LAST-MODIFIED:20260119T194248Z
UID:10000691-1779615900-1779615900@www.ctbc.church
SUMMARY:Prayer Time
DESCRIPTION:
URL:https://www.ctbc.church/event/bible-study-by-randy-reeves-2/2026-05-24
END:VEVENT
BEGIN:VEVENT
DTSTART;TZID=America/Denver:20260524T103000
DTEND;TZID=America/Denver:20260524T103000
DTSTAMP:20260421T123801
CREATED:20250207T180749Z
LAST-MODIFIED:20250228T025027Z
UID:10000072-1779618600-1779618600@www.ctbc.church
SUMMARY:Sunday Worship Service
DESCRIPTION:
URL:https://www.ctbc.church/event/sunday-worship-service/2026-05-24
END:VEVENT
BEGIN:VEVENT
DTSTART;TZID=America/Denver:20260531T094500
DTEND;TZID=America/Denver:20260531T094500
DTSTAMP:20260421T123801
CREATED:20260119T194247Z
LAST-MODIFIED:20260119T194248Z
UID:10000692-1780220700-1780220700@www.ctbc.church
SUMMARY:Prayer Time
DESCRIPTION:
URL:https://www.ctbc.church/event/bible-study-by-randy-reeves-2/2026-05-31
END:VEVENT
BEGIN:VEVENT
DTSTART;TZID=America/Denver:20260531T103000
DTEND;TZID=America/Denver:20260531T103000
DTSTAMP:20260421T123801
CREATED:20250207T180749Z
LAST-MODIFIED:20250228T025027Z
UID:10000073-1780223400-1780223400@www.ctbc.church
SUMMARY:Sunday Worship Service
DESCRIPTION:
URL:https://www.ctbc.church/event/sunday-worship-service/2026-05-31
END:VEVENT
END:VCALENDAR