BEGIN:VCALENDAR
VERSION:2.0
PRODID:-//Canaan Trail Baptist Church - ECPv6.15.17.1//NONSGML v1.0//EN
CALSCALE:GREGORIAN
METHOD:PUBLISH
X-ORIGINAL-URL:https://www.ctbc.church
X-WR-CALDESC:Events for Canaan Trail Baptist Church
REFRESH-INTERVAL;VALUE=DURATION:PT1H
X-Robots-Tag:noindex
X-PUBLISHED-TTL:PT1H
BEGIN:VTIMEZONE
TZID:America/Denver
BEGIN:DAYLIGHT
TZOFFSETFROM:-0700
TZOFFSETTO:-0600
TZNAME:MDT
DTSTART:20240310T090000
END:DAYLIGHT
BEGIN:STANDARD
TZOFFSETFROM:-0600
TZOFFSETTO:-0700
TZNAME:MST
DTSTART:20241103T080000
END:STANDARD
BEGIN:DAYLIGHT
TZOFFSETFROM:-0700
TZOFFSETTO:-0600
TZNAME:MDT
DTSTART:20250309T090000
END:DAYLIGHT
BEGIN:STANDARD
TZOFFSETFROM:-0600
TZOFFSETTO:-0700
TZNAME:MST
DTSTART:20251102T080000
END:STANDARD
BEGIN:DAYLIGHT
TZOFFSETFROM:-0700
TZOFFSETTO:-0600
TZNAME:MDT
DTSTART:20260308T090000
END:DAYLIGHT
BEGIN:STANDARD
TZOFFSETFROM:-0600
TZOFFSETTO:-0700
TZNAME:MST
DTSTART:20261101T080000
END:STANDARD
END:VTIMEZONE
BEGIN:VEVENT
DTSTART;TZID=America/Denver:20250405T090000
DTEND;TZID=America/Denver:20250405T100000
DTSTAMP:20260422T043452
CREATED:20250323T222015Z
LAST-MODIFIED:20250323T222115Z
UID:10000563-1743843600-1743847200@www.ctbc.church
SUMMARY:Choir Practice
DESCRIPTION:
URL:https://www.ctbc.church/event/choir-practice/2025-04-05
END:VEVENT
BEGIN:VEVENT
DTSTART;VALUE=DATE:20250406
DTEND;VALUE=DATE:20250407
DTSTAMP:20260422T043452
CREATED:20250323T221733Z
LAST-MODIFIED:20250323T221733Z
UID:10000559-1743897600-1743983999@www.ctbc.church
SUMMARY:April Potluck and Birthday Celebration
DESCRIPTION:
URL:https://www.ctbc.church/event/april-potluck-and-birthday-celebration
END:VEVENT
BEGIN:VEVENT
DTSTART;TZID=America/Denver:20250406T103000
DTEND;TZID=America/Denver:20250406T103000
DTSTAMP:20260422T043452
CREATED:20250207T180749Z
LAST-MODIFIED:20250228T025027Z
UID:10000013-1743935400-1743935400@www.ctbc.church
SUMMARY:Sunday Worship Service
DESCRIPTION:
URL:https://www.ctbc.church/event/sunday-worship-service/2025-04-06
END:VEVENT
BEGIN:VEVENT
DTSTART;TZID=America/Denver:20250412T090000
DTEND;TZID=America/Denver:20250412T100000
DTSTAMP:20260422T043452
CREATED:20250323T222015Z
LAST-MODIFIED:20250323T222115Z
UID:10000564-1744448400-1744452000@www.ctbc.church
SUMMARY:Choir Practice
DESCRIPTION:
URL:https://www.ctbc.church/event/choir-practice/2025-04-12
END:VEVENT
BEGIN:VEVENT
DTSTART;TZID=America/Denver:20250413T103000
DTEND;TZID=America/Denver:20250413T103000
DTSTAMP:20260422T043452
CREATED:20250207T180749Z
LAST-MODIFIED:20250228T025027Z
UID:10000014-1744540200-1744540200@www.ctbc.church
SUMMARY:Sunday Worship Service
DESCRIPTION:
URL:https://www.ctbc.church/event/sunday-worship-service/2025-04-13
END:VEVENT
BEGIN:VEVENT
DTSTART;VALUE=DATE:20250419
DTEND;VALUE=DATE:20250420
DTSTAMP:20260422T043452
CREATED:20250323T221758Z
LAST-MODIFIED:20250323T221758Z
UID:10000560-1745020800-1745107199@www.ctbc.church
SUMMARY:Easter Egg Hunt
DESCRIPTION:
URL:https://www.ctbc.church/event/easter-egg-hunt
END:VEVENT
BEGIN:VEVENT
DTSTART;TZID=America/Denver:20250419T090000
DTEND;TZID=America/Denver:20250419T100000
DTSTAMP:20260422T043452
CREATED:20250323T222015Z
LAST-MODIFIED:20250323T222115Z
UID:10000565-1745053200-1745056800@www.ctbc.church
SUMMARY:Choir Practice
DESCRIPTION:
URL:https://www.ctbc.church/event/choir-practice/2025-04-19
END:VEVENT
BEGIN:VEVENT
DTSTART;TZID=America/Denver:20250420T103000
DTEND;TZID=America/Denver:20250420T103000
DTSTAMP:20260422T043452
CREATED:20250207T180749Z
LAST-MODIFIED:20250228T025027Z
UID:10000015-1745145000-1745145000@www.ctbc.church
SUMMARY:Sunday Worship Service
DESCRIPTION:
URL:https://www.ctbc.church/event/sunday-worship-service/2025-04-20
END:VEVENT
BEGIN:VEVENT
DTSTART;TZID=America/Denver:20250426T090000
DTEND;TZID=America/Denver:20250426T100000
DTSTAMP:20260422T043452
CREATED:20250323T222015Z
LAST-MODIFIED:20250323T222115Z
UID:10000566-1745658000-1745661600@www.ctbc.church
SUMMARY:Choir Practice
DESCRIPTION:
URL:https://www.ctbc.church/event/choir-practice/2025-04-26
END:VEVENT
BEGIN:VEVENT
DTSTART;TZID=America/Denver:20250426T100000
DTEND;TZID=America/Denver:20250426T120000
DTSTAMP:20260422T043452
CREATED:20250323T221827Z
LAST-MODIFIED:20250323T221827Z
UID:10000561-1745661600-1745668800@www.ctbc.church
SUMMARY:Women's Bible Study
DESCRIPTION:
URL:https://www.ctbc.church/event/womens-bible-study-5
END:VEVENT
BEGIN:VEVENT
DTSTART;TZID=America/Denver:20250426T130000
DTEND;TZID=America/Denver:20250426T140000
DTSTAMP:20260422T043452
CREATED:20250323T221900Z
LAST-MODIFIED:20250323T221900Z
UID:10000562-1745672400-1745676000@www.ctbc.church
SUMMARY:Men's Bible Study
DESCRIPTION:
URL:https://www.ctbc.church/event/mens-bible-study-2
END:VEVENT
BEGIN:VEVENT
DTSTART;TZID=America/Denver:20250427T103000
DTEND;TZID=America/Denver:20250427T103000
DTSTAMP:20260422T043452
CREATED:20250207T180749Z
LAST-MODIFIED:20250228T025027Z
UID:10000016-1745749800-1745749800@www.ctbc.church
SUMMARY:Sunday Worship Service
DESCRIPTION:
URL:https://www.ctbc.church/event/sunday-worship-service/2025-04-27
END:VEVENT
END:VCALENDAR