BEGIN:VCALENDAR
VERSION:2.0
PRODID:-//Canaan Trail Baptist Church - ECPv6.15.17.1//NONSGML v1.0//EN
CALSCALE:GREGORIAN
METHOD:PUBLISH
X-WR-CALNAME:Canaan Trail Baptist Church
X-ORIGINAL-URL:https://www.ctbc.church
X-WR-CALDESC:Events for Canaan Trail Baptist Church
REFRESH-INTERVAL;VALUE=DURATION:PT1H
X-Robots-Tag:noindex
X-PUBLISHED-TTL:PT1H
BEGIN:VTIMEZONE
TZID:America/Denver
BEGIN:DAYLIGHT
TZOFFSETFROM:-0700
TZOFFSETTO:-0600
TZNAME:MDT
DTSTART:20240310T090000
END:DAYLIGHT
BEGIN:STANDARD
TZOFFSETFROM:-0600
TZOFFSETTO:-0700
TZNAME:MST
DTSTART:20241103T080000
END:STANDARD
BEGIN:DAYLIGHT
TZOFFSETFROM:-0700
TZOFFSETTO:-0600
TZNAME:MDT
DTSTART:20250309T090000
END:DAYLIGHT
BEGIN:STANDARD
TZOFFSETFROM:-0600
TZOFFSETTO:-0700
TZNAME:MST
DTSTART:20251102T080000
END:STANDARD
BEGIN:DAYLIGHT
TZOFFSETFROM:-0700
TZOFFSETTO:-0600
TZNAME:MDT
DTSTART:20260308T090000
END:DAYLIGHT
BEGIN:STANDARD
TZOFFSETFROM:-0600
TZOFFSETTO:-0700
TZNAME:MST
DTSTART:20261101T080000
END:STANDARD
BEGIN:DAYLIGHT
TZOFFSETFROM:-0700
TZOFFSETTO:-0600
TZNAME:MDT
DTSTART:20270314T090000
END:DAYLIGHT
BEGIN:STANDARD
TZOFFSETFROM:-0600
TZOFFSETTO:-0700
TZNAME:MST
DTSTART:20271107T080000
END:STANDARD
END:VTIMEZONE
BEGIN:VEVENT
DTSTART;TZID=America/Denver:20251221T093000
DTEND;TZID=America/Denver:20251221T093000
DTSTAMP:20260421T174625
CREATED:20251007T112222Z
LAST-MODIFIED:20251007T112222Z
UID:10000641-1766309400-1766309400@www.ctbc.church
SUMMARY:Bible Study by Randy Reeves
DESCRIPTION:
URL:https://www.ctbc.church/event/bible-study-by-randy-reeves/2025-12-21
END:VEVENT
BEGIN:VEVENT
DTSTART;TZID=America/Denver:20251221T103000
DTEND;TZID=America/Denver:20251221T103000
DTSTAMP:20260421T174625
CREATED:20250207T180749Z
LAST-MODIFIED:20250228T025027Z
UID:10000050-1766313000-1766313000@www.ctbc.church
SUMMARY:Sunday Worship Service
DESCRIPTION:
URL:https://www.ctbc.church/event/sunday-worship-service/2025-12-21
END:VEVENT
BEGIN:VEVENT
DTSTART;TZID=America/Denver:20251228T094500
DTEND;TZID=America/Denver:20251228T094500
DTSTAMP:20260421T174625
CREATED:20260119T194247Z
LAST-MODIFIED:20260119T194248Z
UID:10000642-1766915100-1766915100@www.ctbc.church
SUMMARY:Prayer Time
DESCRIPTION:
URL:https://www.ctbc.church/event/bible-study-by-randy-reeves-2/2025-12-28
END:VEVENT
BEGIN:VEVENT
DTSTART;TZID=America/Denver:20251228T103000
DTEND;TZID=America/Denver:20251228T103000
DTSTAMP:20260421T174625
CREATED:20250207T180749Z
LAST-MODIFIED:20250228T025027Z
UID:10000051-1766917800-1766917800@www.ctbc.church
SUMMARY:Sunday Worship Service
DESCRIPTION:
URL:https://www.ctbc.church/event/sunday-worship-service/2025-12-28
END:VEVENT
BEGIN:VEVENT
DTSTART;VALUE=DATE:20260104
DTEND;VALUE=DATE:20260105
DTSTAMP:20260421T174625
CREATED:20251222T200234Z
LAST-MODIFIED:20251222T200236Z
UID:10000554-1767484800-1767571199@www.ctbc.church
SUMMARY:Potluck and Birthday Celebration - Cancelled for January - Will Resume in February
DESCRIPTION:
URL:https://www.ctbc.church/event/potluck-and-birthday-celebration-4-2
END:VEVENT
BEGIN:VEVENT
DTSTART;TZID=America/Denver:20260104T094500
DTEND;TZID=America/Denver:20260104T094500
DTSTAMP:20260421T174625
CREATED:20260119T194247Z
LAST-MODIFIED:20260119T194248Z
UID:10000671-1767519900-1767519900@www.ctbc.church
SUMMARY:Prayer Time
DESCRIPTION:
URL:https://www.ctbc.church/event/bible-study-by-randy-reeves-2/2026-01-04
END:VEVENT
BEGIN:VEVENT
DTSTART;TZID=America/Denver:20260104T103000
DTEND;TZID=America/Denver:20260104T103000
DTSTAMP:20260421T174625
CREATED:20250207T180749Z
LAST-MODIFIED:20250228T025027Z
UID:10000052-1767522600-1767522600@www.ctbc.church
SUMMARY:Sunday Worship Service
DESCRIPTION:
URL:https://www.ctbc.church/event/sunday-worship-service/2026-01-04
END:VEVENT
BEGIN:VEVENT
DTSTART;TZID=America/Denver:20260111T094500
DTEND;TZID=America/Denver:20260111T094500
DTSTAMP:20260421T174625
CREATED:20260119T194247Z
LAST-MODIFIED:20260119T194248Z
UID:10000672-1768124700-1768124700@www.ctbc.church
SUMMARY:Prayer Time
DESCRIPTION:
URL:https://www.ctbc.church/event/bible-study-by-randy-reeves-2/2026-01-11
END:VEVENT
BEGIN:VEVENT
DTSTART;TZID=America/Denver:20260111T103000
DTEND;TZID=America/Denver:20260111T103000
DTSTAMP:20260421T174625
CREATED:20250207T180749Z
LAST-MODIFIED:20250228T025027Z
UID:10000053-1768127400-1768127400@www.ctbc.church
SUMMARY:Sunday Worship Service
DESCRIPTION:
URL:https://www.ctbc.church/event/sunday-worship-service/2026-01-11
END:VEVENT
BEGIN:VEVENT
DTSTART;TZID=America/Denver:20260118T094500
DTEND;TZID=America/Denver:20260118T094500
DTSTAMP:20260421T174625
CREATED:20260119T194247Z
LAST-MODIFIED:20260119T194248Z
UID:10000673-1768729500-1768729500@www.ctbc.church
SUMMARY:Prayer Time
DESCRIPTION:
URL:https://www.ctbc.church/event/bible-study-by-randy-reeves-2/2026-01-18
END:VEVENT
BEGIN:VEVENT
DTSTART;TZID=America/Denver:20260118T103000
DTEND;TZID=America/Denver:20260118T103000
DTSTAMP:20260421T174625
CREATED:20250207T180749Z
LAST-MODIFIED:20250228T025027Z
UID:10000054-1768732200-1768732200@www.ctbc.church
SUMMARY:Sunday Worship Service
DESCRIPTION:
URL:https://www.ctbc.church/event/sunday-worship-service/2026-01-18
END:VEVENT
BEGIN:VEVENT
DTSTART;TZID=America/Denver:20260125T094500
DTEND;TZID=America/Denver:20260125T094500
DTSTAMP:20260421T174625
CREATED:20260119T194247Z
LAST-MODIFIED:20260119T194248Z
UID:10000674-1769334300-1769334300@www.ctbc.church
SUMMARY:Prayer Time
DESCRIPTION:
URL:https://www.ctbc.church/event/bible-study-by-randy-reeves-2/2026-01-25
END:VEVENT
BEGIN:VEVENT
DTSTART;TZID=America/Denver:20260125T103000
DTEND;TZID=America/Denver:20260125T103000
DTSTAMP:20260421T174625
CREATED:20250207T180749Z
LAST-MODIFIED:20250228T025027Z
UID:10000055-1769337000-1769337000@www.ctbc.church
SUMMARY:Sunday Worship Service
DESCRIPTION:
URL:https://www.ctbc.church/event/sunday-worship-service/2026-01-25
END:VEVENT
BEGIN:VEVENT
DTSTART;VALUE=DATE:20260201
DTEND;VALUE=DATE:20260202
DTSTAMP:20260421T174625
CREATED:20250304T025256Z
LAST-MODIFIED:20250304T025256Z
UID:10000555-1769904000-1769990399@www.ctbc.church
SUMMARY:Potluck and Birthday Celebration
DESCRIPTION:
URL:https://www.ctbc.church/event/potluck-and-birthday-celebration-4/2026-02-01
END:VEVENT
BEGIN:VEVENT
DTSTART;TZID=America/Denver:20260201T094500
DTEND;TZID=America/Denver:20260201T094500
DTSTAMP:20260421T174625
CREATED:20260119T194247Z
LAST-MODIFIED:20260119T194248Z
UID:10000675-1769939100-1769939100@www.ctbc.church
SUMMARY:Prayer Time
DESCRIPTION:
URL:https://www.ctbc.church/event/bible-study-by-randy-reeves-2/2026-02-01
END:VEVENT
BEGIN:VEVENT
DTSTART;TZID=America/Denver:20260201T103000
DTEND;TZID=America/Denver:20260201T103000
DTSTAMP:20260421T174625
CREATED:20250207T180749Z
LAST-MODIFIED:20250228T025027Z
UID:10000056-1769941800-1769941800@www.ctbc.church
SUMMARY:Sunday Worship Service
DESCRIPTION:
URL:https://www.ctbc.church/event/sunday-worship-service/2026-02-01
END:VEVENT
BEGIN:VEVENT
DTSTART;TZID=America/Denver:20260208T094500
DTEND;TZID=America/Denver:20260208T094500
DTSTAMP:20260421T174625
CREATED:20260119T194247Z
LAST-MODIFIED:20260119T194248Z
UID:10000676-1770543900-1770543900@www.ctbc.church
SUMMARY:Prayer Time
DESCRIPTION:
URL:https://www.ctbc.church/event/bible-study-by-randy-reeves-2/2026-02-08
END:VEVENT
BEGIN:VEVENT
DTSTART;TZID=America/Denver:20260208T103000
DTEND;TZID=America/Denver:20260208T103000
DTSTAMP:20260421T174625
CREATED:20250207T180749Z
LAST-MODIFIED:20250228T025027Z
UID:10000057-1770546600-1770546600@www.ctbc.church
SUMMARY:Sunday Worship Service
DESCRIPTION:
URL:https://www.ctbc.church/event/sunday-worship-service/2026-02-08
END:VEVENT
BEGIN:VEVENT
DTSTART;TZID=America/Denver:20260215T094500
DTEND;TZID=America/Denver:20260215T094500
DTSTAMP:20260421T174625
CREATED:20260119T194247Z
LAST-MODIFIED:20260119T194248Z
UID:10000677-1771148700-1771148700@www.ctbc.church
SUMMARY:Prayer Time
DESCRIPTION:
URL:https://www.ctbc.church/event/bible-study-by-randy-reeves-2/2026-02-15
END:VEVENT
BEGIN:VEVENT
DTSTART;TZID=America/Denver:20260215T103000
DTEND;TZID=America/Denver:20260215T103000
DTSTAMP:20260421T174625
CREATED:20250207T180749Z
LAST-MODIFIED:20250228T025027Z
UID:10000058-1771151400-1771151400@www.ctbc.church
SUMMARY:Sunday Worship Service
DESCRIPTION:
URL:https://www.ctbc.church/event/sunday-worship-service/2026-02-15
END:VEVENT
BEGIN:VEVENT
DTSTART;TZID=America/Denver:20260222T094500
DTEND;TZID=America/Denver:20260222T094500
DTSTAMP:20260421T174625
CREATED:20260119T194247Z
LAST-MODIFIED:20260119T194248Z
UID:10000678-1771753500-1771753500@www.ctbc.church
SUMMARY:Prayer Time
DESCRIPTION:
URL:https://www.ctbc.church/event/bible-study-by-randy-reeves-2/2026-02-22
END:VEVENT
BEGIN:VEVENT
DTSTART;TZID=America/Denver:20260222T103000
DTEND;TZID=America/Denver:20260222T103000
DTSTAMP:20260421T174625
CREATED:20250207T180749Z
LAST-MODIFIED:20250228T025027Z
UID:10000059-1771756200-1771756200@www.ctbc.church
SUMMARY:Sunday Worship Service
DESCRIPTION:
URL:https://www.ctbc.church/event/sunday-worship-service/2026-02-22
END:VEVENT
BEGIN:VEVENT
DTSTART;VALUE=DATE:20260301
DTEND;VALUE=DATE:20260302
DTSTAMP:20260421T174625
CREATED:20250304T025256Z
LAST-MODIFIED:20250304T025256Z
UID:10000556-1772323200-1772409599@www.ctbc.church
SUMMARY:Potluck and Birthday Celebration
DESCRIPTION:
URL:https://www.ctbc.church/event/potluck-and-birthday-celebration-4/2026-03-01
END:VEVENT
BEGIN:VEVENT
DTSTART;TZID=America/Denver:20260301T094500
DTEND;TZID=America/Denver:20260301T094500
DTSTAMP:20260421T174625
CREATED:20260119T194247Z
LAST-MODIFIED:20260119T194248Z
UID:10000679-1772358300-1772358300@www.ctbc.church
SUMMARY:Prayer Time
DESCRIPTION:
URL:https://www.ctbc.church/event/bible-study-by-randy-reeves-2/2026-03-01
END:VEVENT
BEGIN:VEVENT
DTSTART;TZID=America/Denver:20260301T103000
DTEND;TZID=America/Denver:20260301T103000
DTSTAMP:20260421T174625
CREATED:20250207T180749Z
LAST-MODIFIED:20250228T025027Z
UID:10000060-1772361000-1772361000@www.ctbc.church
SUMMARY:Sunday Worship Service
DESCRIPTION:
URL:https://www.ctbc.church/event/sunday-worship-service/2026-03-01
END:VEVENT
BEGIN:VEVENT
DTSTART;TZID=America/Denver:20260308T094500
DTEND;TZID=America/Denver:20260308T094500
DTSTAMP:20260421T174625
CREATED:20260119T194247Z
LAST-MODIFIED:20260119T194248Z
UID:10000680-1772963100-1772963100@www.ctbc.church
SUMMARY:Prayer Time
DESCRIPTION:
URL:https://www.ctbc.church/event/bible-study-by-randy-reeves-2/2026-03-08
END:VEVENT
BEGIN:VEVENT
DTSTART;TZID=America/Denver:20260308T103000
DTEND;TZID=America/Denver:20260308T103000
DTSTAMP:20260421T174625
CREATED:20250207T180749Z
LAST-MODIFIED:20250228T025027Z
UID:10000061-1772965800-1772965800@www.ctbc.church
SUMMARY:Sunday Worship Service
DESCRIPTION:
URL:https://www.ctbc.church/event/sunday-worship-service/2026-03-08
END:VEVENT
BEGIN:VEVENT
DTSTART;TZID=America/Denver:20260315T094500
DTEND;TZID=America/Denver:20260315T094500
DTSTAMP:20260421T174625
CREATED:20260119T194247Z
LAST-MODIFIED:20260119T194248Z
UID:10000681-1773567900-1773567900@www.ctbc.church
SUMMARY:Prayer Time
DESCRIPTION:
URL:https://www.ctbc.church/event/bible-study-by-randy-reeves-2/2026-03-15
END:VEVENT
BEGIN:VEVENT
DTSTART;TZID=America/Denver:20260315T103000
DTEND;TZID=America/Denver:20260315T103000
DTSTAMP:20260421T174625
CREATED:20250207T180749Z
LAST-MODIFIED:20250228T025027Z
UID:10000062-1773570600-1773570600@www.ctbc.church
SUMMARY:Sunday Worship Service
DESCRIPTION:
URL:https://www.ctbc.church/event/sunday-worship-service/2026-03-15
END:VEVENT
BEGIN:VEVENT
DTSTART;TZID=America/Denver:20260322T094500
DTEND;TZID=America/Denver:20260322T094500
DTSTAMP:20260421T174625
CREATED:20260119T194247Z
LAST-MODIFIED:20260119T194248Z
UID:10000682-1774172700-1774172700@www.ctbc.church
SUMMARY:Prayer Time
DESCRIPTION:
URL:https://www.ctbc.church/event/bible-study-by-randy-reeves-2/2026-03-22
END:VEVENT
END:VCALENDAR