BEGIN:VCALENDAR
VERSION:2.0
PRODID:-//Canaan Trail Baptist Church - ECPv6.15.17.1//NONSGML v1.0//EN
CALSCALE:GREGORIAN
METHOD:PUBLISH
X-WR-CALNAME:Canaan Trail Baptist Church
X-ORIGINAL-URL:https://www.ctbc.church
X-WR-CALDESC:Events for Canaan Trail Baptist Church
REFRESH-INTERVAL;VALUE=DURATION:PT1H
X-Robots-Tag:noindex
X-PUBLISHED-TTL:PT1H
BEGIN:VTIMEZONE
TZID:America/Denver
BEGIN:DAYLIGHT
TZOFFSETFROM:-0700
TZOFFSETTO:-0600
TZNAME:MDT
DTSTART:20240310T090000
END:DAYLIGHT
BEGIN:STANDARD
TZOFFSETFROM:-0600
TZOFFSETTO:-0700
TZNAME:MST
DTSTART:20241103T080000
END:STANDARD
BEGIN:DAYLIGHT
TZOFFSETFROM:-0700
TZOFFSETTO:-0600
TZNAME:MDT
DTSTART:20250309T090000
END:DAYLIGHT
BEGIN:STANDARD
TZOFFSETFROM:-0600
TZOFFSETTO:-0700
TZNAME:MST
DTSTART:20251102T080000
END:STANDARD
BEGIN:DAYLIGHT
TZOFFSETFROM:-0700
TZOFFSETTO:-0600
TZNAME:MDT
DTSTART:20260308T090000
END:DAYLIGHT
BEGIN:STANDARD
TZOFFSETFROM:-0600
TZOFFSETTO:-0700
TZNAME:MST
DTSTART:20261101T080000
END:STANDARD
END:VTIMEZONE
BEGIN:VEVENT
DTSTART;VALUE=DATE:20251214
DTEND;VALUE=DATE:20251215
DTSTAMP:20260421T123537
CREATED:20251027T035130Z
LAST-MODIFIED:20251027T035130Z
UID:10000670-1765670400-1765756799@www.ctbc.church
SUMMARY:Christmas Potluck
DESCRIPTION:
URL:https://www.ctbc.church/event/christmas-potluck
END:VEVENT
BEGIN:VEVENT
DTSTART;TZID=America/Denver:20251214T093000
DTEND;TZID=America/Denver:20251214T093000
DTSTAMP:20260421T123537
CREATED:20251007T112222Z
LAST-MODIFIED:20251007T112222Z
UID:10000640-1765704600-1765704600@www.ctbc.church
SUMMARY:Bible Study by Randy Reeves
DESCRIPTION:
URL:https://www.ctbc.church/event/bible-study-by-randy-reeves/2025-12-14
END:VEVENT
BEGIN:VEVENT
DTSTART;TZID=America/Denver:20251214T103000
DTEND;TZID=America/Denver:20251214T103000
DTSTAMP:20260421T123537
CREATED:20250207T180749Z
LAST-MODIFIED:20250228T025027Z
UID:10000049-1765708200-1765708200@www.ctbc.church
SUMMARY:Sunday Worship Service
DESCRIPTION:
URL:https://www.ctbc.church/event/sunday-worship-service/2025-12-14
END:VEVENT
END:VCALENDAR