BEGIN:VCALENDAR
VERSION:2.0
PRODID:-//Canaan Trail Baptist Church - ECPv6.15.17.1//NONSGML v1.0//EN
CALSCALE:GREGORIAN
METHOD:PUBLISH
X-ORIGINAL-URL:https://www.ctbc.church
X-WR-CALDESC:Events for Canaan Trail Baptist Church
REFRESH-INTERVAL;VALUE=DURATION:PT1H
X-Robots-Tag:noindex
X-PUBLISHED-TTL:PT1H
BEGIN:VTIMEZONE
TZID:America/Denver
BEGIN:DAYLIGHT
TZOFFSETFROM:-0700
TZOFFSETTO:-0600
TZNAME:MDT
DTSTART:20240310T090000
END:DAYLIGHT
BEGIN:STANDARD
TZOFFSETFROM:-0600
TZOFFSETTO:-0700
TZNAME:MST
DTSTART:20241103T080000
END:STANDARD
BEGIN:DAYLIGHT
TZOFFSETFROM:-0700
TZOFFSETTO:-0600
TZNAME:MDT
DTSTART:20250309T090000
END:DAYLIGHT
BEGIN:STANDARD
TZOFFSETFROM:-0600
TZOFFSETTO:-0700
TZNAME:MST
DTSTART:20251102T080000
END:STANDARD
BEGIN:DAYLIGHT
TZOFFSETFROM:-0700
TZOFFSETTO:-0600
TZNAME:MDT
DTSTART:20260308T090000
END:DAYLIGHT
BEGIN:STANDARD
TZOFFSETFROM:-0600
TZOFFSETTO:-0700
TZNAME:MST
DTSTART:20261101T080000
END:STANDARD
END:VTIMEZONE
BEGIN:VEVENT
DTSTART;VALUE=DATE:20251123
DTEND;VALUE=DATE:20251124
DTSTAMP:20260421T140700
CREATED:20251027T035107Z
LAST-MODIFIED:20251027T035107Z
UID:10000669-1763856000-1763942399@www.ctbc.church
SUMMARY:Thanksgiving Meal
DESCRIPTION:
URL:https://www.ctbc.church/event/thanksgiving-meal
END:VEVENT
BEGIN:VEVENT
DTSTART;TZID=America/Denver:20251123T093000
DTEND;TZID=America/Denver:20251123T093000
DTSTAMP:20260421T140700
CREATED:20251007T112222Z
LAST-MODIFIED:20251007T112222Z
UID:10000637-1763890200-1763890200@www.ctbc.church
SUMMARY:Bible Study by Randy Reeves
DESCRIPTION:
URL:https://www.ctbc.church/event/bible-study-by-randy-reeves/2025-11-23
END:VEVENT
BEGIN:VEVENT
DTSTART;TZID=America/Denver:20251123T103000
DTEND;TZID=America/Denver:20251123T103000
DTSTAMP:20260421T140700
CREATED:20250207T180749Z
LAST-MODIFIED:20250228T025027Z
UID:10000046-1763893800-1763893800@www.ctbc.church
SUMMARY:Sunday Worship Service
DESCRIPTION:
URL:https://www.ctbc.church/event/sunday-worship-service/2025-11-23
END:VEVENT
END:VCALENDAR