BEGIN:VCALENDAR
VERSION:2.0
PRODID:-//Canaan Trail Baptist Church - ECPv6.15.17.1//NONSGML v1.0//EN
CALSCALE:GREGORIAN
METHOD:PUBLISH
X-ORIGINAL-URL:https://www.ctbc.church
X-WR-CALDESC:Events for Canaan Trail Baptist Church
REFRESH-INTERVAL;VALUE=DURATION:PT1H
X-Robots-Tag:noindex
X-PUBLISHED-TTL:PT1H
BEGIN:VTIMEZONE
TZID:America/Denver
BEGIN:DAYLIGHT
TZOFFSETFROM:-0700
TZOFFSETTO:-0600
TZNAME:MDT
DTSTART:20240310T090000
END:DAYLIGHT
BEGIN:STANDARD
TZOFFSETFROM:-0600
TZOFFSETTO:-0700
TZNAME:MST
DTSTART:20241103T080000
END:STANDARD
BEGIN:DAYLIGHT
TZOFFSETFROM:-0700
TZOFFSETTO:-0600
TZNAME:MDT
DTSTART:20250309T090000
END:DAYLIGHT
BEGIN:STANDARD
TZOFFSETFROM:-0600
TZOFFSETTO:-0700
TZNAME:MST
DTSTART:20251102T080000
END:STANDARD
BEGIN:DAYLIGHT
TZOFFSETFROM:-0700
TZOFFSETTO:-0600
TZNAME:MDT
DTSTART:20260308T090000
END:DAYLIGHT
BEGIN:STANDARD
TZOFFSETFROM:-0600
TZOFFSETTO:-0700
TZNAME:MST
DTSTART:20261101T080000
END:STANDARD
END:VTIMEZONE
BEGIN:VEVENT
DTSTART;VALUE=DATE:20251005
DTEND;VALUE=DATE:20251006
DTSTAMP:20260421T174030
CREATED:20250304T025256Z
LAST-MODIFIED:20250304T025256Z
UID:10000551-1759622400-1759708799@www.ctbc.church
SUMMARY:Potluck and Birthday Celebration
DESCRIPTION:
URL:https://www.ctbc.church/event/potluck-and-birthday-celebration-4/2025-10-05
END:VEVENT
BEGIN:VEVENT
DTSTART;TZID=America/Denver:20251005T090000
DTEND;TZID=America/Denver:20251005T090000
DTSTAMP:20260421T174030
CREATED:20251003T141802Z
LAST-MODIFIED:20251003T141802Z
UID:10000630-1759654800-1759654800@www.ctbc.church
SUMMARY:Bible Study
DESCRIPTION:
URL:https://www.ctbc.church/event/bible-study
END:VEVENT
BEGIN:VEVENT
DTSTART;TZID=America/Denver:20251005T103000
DTEND;TZID=America/Denver:20251005T103000
DTSTAMP:20260421T174030
CREATED:20250207T180749Z
LAST-MODIFIED:20250228T025027Z
UID:10000039-1759660200-1759660200@www.ctbc.church
SUMMARY:Sunday Worship Service
DESCRIPTION:
URL:https://www.ctbc.church/event/sunday-worship-service/2025-10-05
END:VEVENT
END:VCALENDAR